BEGIN:VCALENDAR
VERSION:2.0
PRODID:-//PIXEL Academy - ECPv6.14.1//NONSGML v1.0//EN
CALSCALE:GREGORIAN
METHOD:PUBLISH
X-ORIGINAL-URL:https://pixelacademy.bg
X-WR-CALDESC:Събития за PIXEL Academy
REFRESH-INTERVAL;VALUE=DURATION:PT1H
X-Robots-Tag:noindex
X-PUBLISHED-TTL:PT1H
BEGIN:VTIMEZONE
TZID:UTC
BEGIN:STANDARD
TZOFFSETFROM:+0000
TZOFFSETTO:+0000
TZNAME:UTC
DTSTART:20240101T000000
END:STANDARD
END:VTIMEZONE
BEGIN:VEVENT
DTSTART;TZID=UTC:20240425T190000
DTEND;TZID=UTC:20240425T190000
DTSTAMP:20260422T164705
CREATED:20231116T143904Z
LAST-MODIFIED:20240105T141925Z
UID:13861-1714071600-1714071600@pixelacademy.bg
SUMMARY:InDesign for Beginners - Очаквайте скоро - Модул 8
DESCRIPTION:
URL:https://pixelacademy.bg/event/indesign-for-beginners-%d0%be%d1%87%d0%b0%d0%ba%d0%b2%d0%b0%d0%b9%d1%82%d0%b5-%d1%81%d0%ba%d0%be%d1%80%d0%be-%d0%bc%d0%be%d0%b4%d1%83%d0%bb-8/
CATEGORIES:Adobe InDesign Beginners
ATTACH;FMTTYPE=image/jpeg:https://pixelacademy.bg/wp-content/uploads/2023/09/Iva-Stoyanova-Lecturer-banner-500-250-Calendar.jpg
END:VEVENT
BEGIN:VEVENT
DTSTART;TZID=UTC:20240423T190000
DTEND;TZID=UTC:20240423T220000
DTSTAMP:20260422T164705
CREATED:20231116T143756Z
LAST-MODIFIED:20240105T141812Z
UID:13859-1713898800-1713909600@pixelacademy.bg
SUMMARY:InDesign for Beginners - Очаквайте скоро - Модул 7
DESCRIPTION:
URL:https://pixelacademy.bg/event/indesign-for-beginners-%d0%be%d1%87%d0%b0%d0%ba%d0%b2%d0%b0%d0%b9%d1%82%d0%b5-%d1%81%d0%ba%d0%be%d1%80%d0%be-%d0%bc%d0%be%d0%b4%d1%83%d0%bb-7/
CATEGORIES:Adobe InDesign Beginners
ATTACH;FMTTYPE=image/jpeg:https://pixelacademy.bg/wp-content/uploads/2023/09/Iva-Stoyanova-Lecturer-banner-500-250-Calendar.jpg
END:VEVENT
BEGIN:VEVENT
DTSTART;TZID=UTC:20240418T190000
DTEND;TZID=UTC:20240418T220000
DTSTAMP:20260422T164705
CREATED:20231116T143535Z
LAST-MODIFIED:20240105T141756Z
UID:13857-1713466800-1713477600@pixelacademy.bg
SUMMARY:InDesign for Beginners - Очаквайте скоро - Модул 6
DESCRIPTION:
URL:https://pixelacademy.bg/event/indesign-for-beginners-%d0%be%d1%87%d0%b0%d0%ba%d0%b2%d0%b0%d0%b9%d1%82%d0%b5-%d1%81%d0%ba%d0%be%d1%80%d0%be-%d0%bc%d0%be%d0%b4%d1%83%d0%bb-6/
CATEGORIES:Adobe InDesign Beginners
ATTACH;FMTTYPE=image/jpeg:https://pixelacademy.bg/wp-content/uploads/2023/09/Iva-Stoyanova-Lecturer-banner-500-250-Calendar.jpg
END:VEVENT
BEGIN:VEVENT
DTSTART;TZID=UTC:20240416T190000
DTEND;TZID=UTC:20240416T220000
DTSTAMP:20260422T164705
CREATED:20231116T143234Z
LAST-MODIFIED:20240105T141718Z
UID:13850-1713294000-1713304800@pixelacademy.bg
SUMMARY:InDesign for Beginners - Очаквайте скоро - Модул 5
DESCRIPTION:
URL:https://pixelacademy.bg/event/indesign-for-beginners-%d0%be%d1%87%d0%b0%d0%ba%d0%b2%d0%b0%d0%b9%d1%82%d0%b5-%d1%81%d0%ba%d0%be%d1%80%d0%be-%d0%bc%d0%be%d0%b4%d1%83%d0%bb-5/
CATEGORIES:Adobe InDesign Beginners
ATTACH;FMTTYPE=image/jpeg:https://pixelacademy.bg/wp-content/uploads/2023/09/Iva-Stoyanova-Lecturer-banner-500-250-Calendar.jpg
END:VEVENT
BEGIN:VEVENT
DTSTART;TZID=UTC:20240411T190000
DTEND;TZID=UTC:20240411T220000
DTSTAMP:20260422T164705
CREATED:20231116T141254Z
LAST-MODIFIED:20240105T141642Z
UID:13848-1712862000-1712872800@pixelacademy.bg
SUMMARY:InDesign for Beginners - Очаквайте скоро - Модул 4
DESCRIPTION:
URL:https://pixelacademy.bg/event/indesign-for-beginners-%d0%be%d1%87%d0%b0%d0%ba%d0%b2%d0%b0%d0%b9%d1%82%d0%b5-%d1%81%d0%ba%d0%be%d1%80%d0%be-%d0%bc%d0%be%d0%b4%d1%83%d0%bb-4/
CATEGORIES:Adobe InDesign Beginners
ATTACH;FMTTYPE=image/jpeg:https://pixelacademy.bg/wp-content/uploads/2023/09/Iva-Stoyanova-Lecturer-banner-500-250-Calendar.jpg
END:VEVENT
BEGIN:VEVENT
DTSTART;TZID=UTC:20240409T190000
DTEND;TZID=UTC:20240409T220000
DTSTAMP:20260422T164705
CREATED:20231116T141206Z
LAST-MODIFIED:20240105T141629Z
UID:13845-1712689200-1712700000@pixelacademy.bg
SUMMARY:InDesign for Beginners - Очаквайте скоро - Модул 3
DESCRIPTION:
URL:https://pixelacademy.bg/event/indesign-for-beginners-%d0%be%d1%87%d0%b0%d0%ba%d0%b2%d0%b0%d0%b9%d1%82%d0%b5-%d1%81%d0%ba%d0%be%d1%80%d0%be-%d0%bc%d0%be%d0%b4%d1%83%d0%bb-3/
CATEGORIES:Adobe InDesign Beginners
ATTACH;FMTTYPE=image/jpeg:https://pixelacademy.bg/wp-content/uploads/2023/09/Iva-Stoyanova-Lecturer-banner-500-250-Calendar.jpg
END:VEVENT
BEGIN:VEVENT
DTSTART;TZID=UTC:20240404T190000
DTEND;TZID=UTC:20240404T220000
DTSTAMP:20260422T164705
CREATED:20231116T141013Z
LAST-MODIFIED:20240105T141613Z
UID:13844-1712257200-1712268000@pixelacademy.bg
SUMMARY:InDesign for Beginners - Очаквайте скоро - Модул 2
DESCRIPTION:
URL:https://pixelacademy.bg/event/indesign-for-beginners-%d0%be%d1%87%d0%b0%d0%ba%d0%b2%d0%b0%d0%b9%d1%82%d0%b5-%d1%81%d0%ba%d0%be%d1%80%d0%be-%d0%bc%d0%be%d0%b4%d1%83%d0%bb-2/
CATEGORIES:Adobe InDesign Beginners
ATTACH;FMTTYPE=image/jpeg:https://pixelacademy.bg/wp-content/uploads/2023/09/Iva-Stoyanova-Lecturer-banner-500-250-Calendar.jpg
END:VEVENT
BEGIN:VEVENT
DTSTART;TZID=UTC:20240402T190000
DTEND;TZID=UTC:20240402T220000
DTSTAMP:20260422T164705
CREATED:20231116T140613Z
LAST-MODIFIED:20240105T141602Z
UID:13840-1712084400-1712095200@pixelacademy.bg
SUMMARY:InDesign for Beginners - Очаквайте скоро - Модул 1
DESCRIPTION:
URL:https://pixelacademy.bg/event/indesign-for-beginners-%d0%be%d1%87%d0%b0%d0%ba%d0%b2%d0%b0%d0%b9%d1%82%d0%b5-%d1%81%d0%ba%d0%be%d1%80%d0%be-%d0%bc%d0%be%d0%b4%d1%83%d0%bb-1/
CATEGORIES:Adobe InDesign Beginners
ATTACH;FMTTYPE=image/jpeg:https://pixelacademy.bg/wp-content/uploads/2023/09/Iva-Stoyanova-Lecturer-banner-500-250-Calendar.jpg
END:VEVENT
END:VCALENDAR